BEGIN:VCALENDAR
VERSION:2.0
PRODID:-//BowieVision - ECPv6.15.20//NONSGML v1.0//EN
CALSCALE:GREGORIAN
METHOD:PUBLISH
X-ORIGINAL-URL:https://bowievision.com
X-WR-CALDESC:Events for BowieVision
REFRESH-INTERVAL;VALUE=DURATION:PT1H
X-Robots-Tag:noindex
X-PUBLISHED-TTL:PT1H
BEGIN:VTIMEZONE
TZID:America/Los_Angeles
BEGIN:DAYLIGHT
TZOFFSETFROM:-0800
TZOFFSETTO:-0700
TZNAME:PDT
DTSTART:20240310T100000
END:DAYLIGHT
BEGIN:STANDARD
TZOFFSETFROM:-0700
TZOFFSETTO:-0800
TZNAME:PST
DTSTART:20241103T090000
END:STANDARD
BEGIN:DAYLIGHT
TZOFFSETFROM:-0800
TZOFFSETTO:-0700
TZNAME:PDT
DTSTART:20250309T100000
END:DAYLIGHT
BEGIN:STANDARD
TZOFFSETFROM:-0700
TZOFFSETTO:-0800
TZNAME:PST
DTSTART:20251102T090000
END:STANDARD
BEGIN:DAYLIGHT
TZOFFSETFROM:-0800
TZOFFSETTO:-0700
TZNAME:PDT
DTSTART:20260308T100000
END:DAYLIGHT
BEGIN:STANDARD
TZOFFSETFROM:-0700
TZOFFSETTO:-0800
TZNAME:PST
DTSTART:20261101T090000
END:STANDARD
END:VTIMEZONE
BEGIN:VEVENT
DTSTART;TZID=America/Los_Angeles:20251205T180000
DTEND;TZID=America/Los_Angeles:20251205T193000
DTSTAMP:20260424T002302
CREATED:20251015T195307Z
LAST-MODIFIED:20251015T195307Z
UID:81921-1764957600-1764963000@bowievision.com
SUMMARY:BowieVision at the Triple Door (Early Show)
DESCRIPTION:Join BowieVision for a special night of TWO SHOWS at the Triple Door. There will be separately ticketed performances at 6:00 PM and 9:00 PM. All seats for these shows will be in reserved booths except for Standing Room Only tickets\, which will only be sold once all seating is sold out. We look forward to seeing you at the special shows!
URL:https://bowievision.com/event/bowievision-at-the-triple-door-early-show/
LOCATION:The Triple Door\, 216 Union Street\, Seattle\, WA\, 98101\, United States
END:VEVENT
BEGIN:VEVENT
DTSTART;TZID=America/Los_Angeles:20251205T210000
DTEND;TZID=America/Los_Angeles:20251205T223000
DTSTAMP:20260424T002302
CREATED:20251015T195358Z
LAST-MODIFIED:20251015T195603Z
UID:81924-1764968400-1764973800@bowievision.com
SUMMARY:BowieVision at the Triple Door (Late Show)
DESCRIPTION:Join BowieVision for a special night of TWO SHOWS at the Triple Door. There will be separately ticketed performances at 6:00 PM and 9:00 PM. All seats for these shows will be in reserved booths except for Standing Room Only tickets\, which will only be sold once all seating is sold out. We look forward to seeing you at the special shows!
URL:https://bowievision.com/event/bowievision-at-the-triple-door-late-show/
LOCATION:The Triple Door\, 216 Union Street\, Seattle\, WA\, 98101\, United States
END:VEVENT
END:VCALENDAR