BEGIN:VCALENDAR
VERSION:2.0
PRODID:-//BowieVision - ECPv6.15.20//NONSGML v1.0//EN
CALSCALE:GREGORIAN
METHOD:PUBLISH
X-WR-CALNAME:BowieVision
X-ORIGINAL-URL:https://bowievision.com
X-WR-CALDESC:Events for BowieVision
REFRESH-INTERVAL;VALUE=DURATION:PT1H
X-Robots-Tag:noindex
X-PUBLISHED-TTL:PT1H
BEGIN:VTIMEZONE
TZID:UTC
BEGIN:STANDARD
TZOFFSETFROM:+0000
TZOFFSETTO:+0000
TZNAME:UTC
DTSTART:20240101T000000
END:STANDARD
END:VTIMEZONE
BEGIN:VTIMEZONE
TZID:America/Los_Angeles
BEGIN:DAYLIGHT
TZOFFSETFROM:-0800
TZOFFSETTO:-0700
TZNAME:PDT
DTSTART:20240310T100000
END:DAYLIGHT
BEGIN:STANDARD
TZOFFSETFROM:-0700
TZOFFSETTO:-0800
TZNAME:PST
DTSTART:20241103T090000
END:STANDARD
BEGIN:DAYLIGHT
TZOFFSETFROM:-0800
TZOFFSETTO:-0700
TZNAME:PDT
DTSTART:20250309T100000
END:DAYLIGHT
BEGIN:STANDARD
TZOFFSETFROM:-0700
TZOFFSETTO:-0800
TZNAME:PST
DTSTART:20251102T090000
END:STANDARD
BEGIN:DAYLIGHT
TZOFFSETFROM:-0800
TZOFFSETTO:-0700
TZNAME:PDT
DTSTART:20260308T100000
END:DAYLIGHT
BEGIN:STANDARD
TZOFFSETFROM:-0700
TZOFFSETTO:-0800
TZNAME:PST
DTSTART:20261101T090000
END:STANDARD
END:VTIMEZONE
BEGIN:VEVENT
DTSTART;TZID=UTC:20260109T200000
DTEND;TZID=UTC:20260109T233000
DTSTAMP:20260423T225809
CREATED:20251208T193913Z
LAST-MODIFIED:20251208T194437Z
UID:81932-1767988800-1768001400@bowievision.com
SUMMARY:Bowie's Birthday Bash
DESCRIPTION:On Friday January 9 BowieVision returns to The Tractor Tavern to celebrate Bowie’s Birthday. We will perform songs from many of the Starman’s albums\, and have some fun surprises for you. For this special show we’ll be joined by Wheel In The Sky\, a fantastic Journey tribute.\n\nTickets are now ON SALE and we strongly recommend you get them in advance. Our performances at this venue sell quickly and we want to see you there.\nhttps://www.ticketweb.com/event/bowie-birthday-bash-bowievision-w-tractor-tickets/13972774?pl=tractor&REFID=clientsitewp\n\nWe love playing at The Tractor Tavern. It’s in the heart of historic downtown Ballard and has provided nightly entertainment for more than 30 years\, featuring local\, national\, and international artists of all genres. The staff is friendly\, the drinks are tasty\, and they have a BIG dance floor\, so put on your red shoes and don’t stop believin’ !
URL:https://bowievision.com/event/bowies-birthday-bash/
LOCATION:Tractor Tavern\, 5213 Ballard Ave NW\, Seattle\, WA\, 98107\, United States
END:VEVENT
BEGIN:VEVENT
DTSTART;TZID=America/Los_Angeles:20251205T210000
DTEND;TZID=America/Los_Angeles:20251205T223000
DTSTAMP:20260423T225809
CREATED:20251015T195358Z
LAST-MODIFIED:20251015T195603Z
UID:81924-1764968400-1764973800@bowievision.com
SUMMARY:BowieVision at the Triple Door (Late Show)
DESCRIPTION:Join BowieVision for a special night of TWO SHOWS at the Triple Door. There will be separately ticketed performances at 6:00 PM and 9:00 PM. All seats for these shows will be in reserved booths except for Standing Room Only tickets\, which will only be sold once all seating is sold out. We look forward to seeing you at the special shows!
URL:https://bowievision.com/event/bowievision-at-the-triple-door-late-show/
LOCATION:The Triple Door\, 216 Union Street\, Seattle\, WA\, 98101\, United States
END:VEVENT
BEGIN:VEVENT
DTSTART;TZID=America/Los_Angeles:20251205T180000
DTEND;TZID=America/Los_Angeles:20251205T193000
DTSTAMP:20260423T225809
CREATED:20251015T195307Z
LAST-MODIFIED:20251015T195307Z
UID:81921-1764957600-1764963000@bowievision.com
SUMMARY:BowieVision at the Triple Door (Early Show)
DESCRIPTION:Join BowieVision for a special night of TWO SHOWS at the Triple Door. There will be separately ticketed performances at 6:00 PM and 9:00 PM. All seats for these shows will be in reserved booths except for Standing Room Only tickets\, which will only be sold once all seating is sold out. We look forward to seeing you at the special shows!
URL:https://bowievision.com/event/bowievision-at-the-triple-door-early-show/
LOCATION:The Triple Door\, 216 Union Street\, Seattle\, WA\, 98101\, United States
END:VEVENT
BEGIN:VEVENT
DTSTART;TZID=UTC:20251010T200000
DTEND;TZID=UTC:20251010T233000
DTSTAMP:20260423T225809
CREATED:20250708T215655Z
LAST-MODIFIED:20250917T201619Z
UID:70614-1760126400-1760139000@bowievision.com
SUMMARY:BowieVision at Jazzbones
DESCRIPTION:  \n \nJoin us for a night of great music at Jazzbones in Tacoma\, Washington\, with our special guests Jealous Dogs\, a fantastic tribute to The Pretenders.\nJazzbones is located in the happening 6th Avenue District\, and is a great venue with a tasty menu of sushi\, pizza & bar bites. It has a big dance floor\, so put on your red shoes… you know the rest! \nTickets are now on sale!
URL:https://bowievision.com/event/bowievision-at-jazzbones/
LOCATION:Jazzbones\, 2803 6th Avenue\, Tacoma\, WA\, 98406\, United States
END:VEVENT
BEGIN:VEVENT
DTSTART;TZID=UTC:20250705T210000
DTEND;TZID=UTC:20250705T233000
DTSTAMP:20260423T225809
CREATED:20250512T230130Z
LAST-MODIFIED:20250516T232620Z
UID:46069-1751749200-1751758200@bowievision.com
SUMMARY:BowieVision Returns!
DESCRIPTION:In 2023 BowieVision performed farewell performances at The Tractor and Triple Door as a bittersweet celebration of the band’s ten-year run. It was the right decision at that time\, and allowed us to explore other opportunities and adventures. \nAnd then\, something began to happen. Time passed. We kept thinking how much we love this music\, and how much we love playing together. We felt that Bowie’s music was far from finished with us\, and that now more than ever\, the world needs his sound\, message\, inclusiveness\, and wry humor. \nConversations led to consideration. Then to planning and action. After a two-year slumber\, we are delighted to announce that WE ARE BACK. We hope you are too! \nOur first show is now on sale. Join us at the Tractor Tavern for a great night of music with our special guests Jealous Dogs – a wonderful tribute to The Pretenders. This show will sell quickly\, and we strongly advise you to get advance tickets. \nTickets now on sale!\n  \n  \nThe members of BowieVision are seasoned professionals with decades of experience in live and studio musical performance\, touring theater\, composition and arrangement. \nReturning Members of BowieVision \nBrian Bermudez – Saxophone \nJohn Hendow – Electric Guitar\, Backing Vocals \nStefan Mitchell – Lead Vocals \nSteve Okimoto – Bass\, Backing Vocals \nTanesha Ross – Acoustic Guitar\, Vocals \n  \nJoin us in welcoming two new members of BowieVision \nJoe Eck – Drums \nRobert Keene – Keyboards
URL:https://bowievision.com/event/bowievision-returns/
LOCATION:Tractor Tavern\, 5213 Ballard Ave NW\, Seattle\, WA\, 98107\, United States
END:VEVENT
END:VCALENDAR